{"text_format":"3","workbook":"xlsx","n_sheets":5,"sheets":["請求書書式(請求書表紙）","控除金明細書","出来高調書","請求書書式(請求書表紙）印刷送付用","図形"],"not_rendered":{"images":2,"external_links":1,"defined_names":22,"comments":1},"read":"whole","date_system":"1900"}

{"sheet":"請求書書式(請求書表紙）","index":0,"n_rows":44,"n_cols":12,"rows_kept":44,"merged":[[0,0,0,9],[1,0,1,9],[2,4,2,6],[4,0,4,1],[4,2,4,5],[5,7,5,9],[6,0,6,1],[6,2,6,4],[6,7,6,9],[7,0,7,1],[7,2,7,4],[7,7,7,8],[8,0,8,1],[8,2,8,4],[8,7,8,8],[9,0,9,1],[9,2,9,4],[10,0,10,1],[10,2,10,4],[10,7,10,9],[13,1,13,4],[14,1,14,4],[15,1,15,4],[16,1,16,4],[17,1,17,4],[18,1,18,4],[19,1,19,4],[20,1,20,4],[21,1,21,4],[22,1,22,4],[23,1,23,4],[24,1,24,4],[25,1,25,4],[26,1,26,4],[27,1,27,4],[28,1,28,4],[29,1,29,4],[33,0,34,1],[33,2,33,4],[34,2,34,4],[35,2,35,4],[36,2,36,4],[37,0,37,1],[37,2,37,4],[40,0,40,4],[41,0,45,4],[41,5,45,5]]}
["請　　求　　書"]
["2023-08-25"]
[{"$nulls":4},{"$f":"A2","v":"2023-08-25"}]
["株式会社西和工務店　御中"]
["工事名・作業所名",{"$nulls":5},"請求者住所氏名"]
["〔注文契約内訳（税込）〕",{"$nulls":5},"住　　所"]
["注文金額",{"$nulls":5},"社　　名"]
["上記既請求額",{"$nulls":5},"代表者名",null,null,"印"]
["契約工事 　今回請求額",{"$nulls":5},"TEL"]
["契約外工事 今回請求額",{"$nulls":5},"適格請求書発行事業者番号"]
["請求残額",{"$nulls":5},"T"]
["〔請求内訳〕"]
["月/日","品名（仕様・形状・寸法）",{"$nulls":3},"数　量","単位","単　価","金　　額","税区分"]
[{"$nulls":8},{"$f":"ROUNDDOWN(F14*H14,0)","v":{"v":0,"d":"   0"}},null,null,{"v":0.1,"d":"10%"}]
[{"$nulls":8},{"$f":"ROUNDDOWN(F15*H15,0)","v":{"v":0,"d":"   0"}},null,null,{"v":0.08,"d":"8%"}]
[{"$nulls":8},{"v":0,"d":"   0"},null,null,"非課税"]
[{"$nulls":8},{"v":0,"d":"   0"}]
[{"$nulls":8},{"v":0,"d":"   0"}]
[{"$nulls":8},{"v":0,"d":"   0"}]
[{"$nulls":8},{"v":0,"d":"   0"}]
[{"$nulls":8},{"v":0,"d":"   0"}]
[{"$nulls":8},{"v":0,"d":"   0"}]
[{"$nulls":8},{"v":0,"d":"   0"}]
[{"$nulls":8},{"v":0,"d":"   0"}]
[{"$nulls":8},{"v":0,"d":"   0"}]
[{"$nulls":8},{"v":0,"d":"   0"}]
[{"$nulls":8},{"v":0,"d":"   0"}]
[{"$nulls":8},{"v":0,"d":"   0"}]
[{"$nulls":8},{"v":0,"d":"   0"}]
[{"$nulls":8},{"v":0,"d":"   0"}]
[null,"※8％は軽減税率を含む"]
[{"$nulls":7},"本体金額",{"$f":"SUM(I14:I31)","v":{"v":0,"d":"   0"}}]
["〔振込先〕",{"$nulls":6},"消費税",{"$f":"SUM(I43)","v":{"v":0,"d":"   0"}}]
["振込銀行",null,"銀行 ",{"$nulls":4},"合計",{"$f":"SUM(I44)","v":{"v":0,"d":"   0"}}]
[null,null,"支店 "]
["口座種別",null,"普通・当座",{"$nulls":4},"〔税率内訳〕"]
["口座番号",{"$nulls":6},"8％対象",{"$f":"SUMIF($J$14:$J$30,8%,$I$14:$I$30)","v":{"v":0,"d":"0 "}}]
["口座名義",{"$nulls":6},"消費税",{"$f":"ROUNDDOWN(I37*0.08,0)","v":{"v":0,"d":"0 "}}]
[{"$nulls":7},"10％対象",{"$f":"SUMIF($J$14:$J$30,10%,$I$14:$I$30)","v":{"v":0,"d":"0 "}}]
["【西和工務店使用欄】",{"$nulls":6},"消費税",{"$f":"ROUNDDOWN(I39*0.1,0)","v":{"v":0,"d":"0 "}}]
["工事部",{"$nulls":4},"現場代理人",null,"非課税",{"$f":"SUMIF($J$14:$J$30,\"非課税\",$I$14:$I$30)","v":{"v":0,"d":"   0"}}]
[{"$nulls":7},"本体計",{"$f":"I37+I39+I41","v":{"v":0,"d":"0 "}}]
[{"$nulls":7},"消費税計",{"$f":"I38+I40","v":{"v":0,"d":"0 "}}]
[{"$nulls":7},"総合計",{"$f":"SUM(I42:I43)","v":{"v":0,"d":"0 "}}]

{"sheet":"控除金明細書","index":1,"n_rows":33,"n_cols":5,"rows_kept":33,"merged":[[3,0,3,2],[29,0,30,0]]}
[null,null,{"$f":"'請求書書式(請求書表紙）'!$A$2","v":"2023-08-25"}]
[{"$f":"'請求書書式(請求書表紙）'!$H$7","v":0},"殿"]
[{"$f":"'請求書書式(請求書表紙）'!$H$11","v":0}]
["控除金明細書"]
[]
[{"$nulls":3},"神奈川県相模原市中央区相模原８丁目３－７"]
[{"$nulls":3},"株　式　会　社　西　和　工　務　店　　　　　"]
[{"$nulls":3},"適格請求書発行事業者番号：Ｔ1011101010992"]
[{"$nulls":3},"TEL 042-707-0731　FAX 042-707-0931"]
[]
[{"$f":"C1","v":"2023-08-25"}]
[{"$f":"'請求書書式(請求書表紙）'!$C$5","v":{"v":0,"d":"0 "}}]
["控除項目","控除金額","備考","税区分"]
[{"$nulls":3},{"v":0.1,"d":"10%"}]
[{"$nulls":3},{"v":0.1,"d":"10%"}]
[{"$nulls":3},{"v":0.1,"d":"10%"}]
[{"$nulls":3},{"v":0.08,"d":"8%"}]
[{"$nulls":3},{"v":0.1,"d":"10%"}]
[{"$nulls":3},{"v":0.1,"d":"10%"}]
[{"$nulls":3},{"v":0.1,"d":"10%"}]
[{"$nulls":3},{"v":0.1,"d":"10%"}]
[{"$nulls":3},{"v":0.1,"d":"10%"}]
[{"$nulls":3},{"v":0.1,"d":"10%"}]
[{"$nulls":3},{"v":0.1,"d":"10%"}]
[{"$nulls":3},{"v":0.1,"d":"10%"}]
[{"$nulls":3},{"v":0.1,"d":"10%"}]
[{"$nulls":3},{"v":0.1,"d":"10%"}]
["合計",{"$f":"SUM(B14:B27)","v":{"v":0,"d":"0 "}}]
[]
["控除金分消費税","10％適用対象　消費税額小計",{"$f":"ROUNDDOWN(E30/1.1*0.1,0)","v":{"v":0,"d":"0 "}},null,{"$f":"SUMIF($D$13:$D$29,10%,$B$13:$B$29)","v":{"v":0,"d":"0 "}}]
[null,"8％適用対象  　消費税額小計",{"$f":"ROUNDDOWN(E31/1.08*0.08,0)","v":{"v":0,"d":"0 "}},null,{"$f":"SUMIF($D$13:$D$29,8%,$B$13:$B$29)","v":{"v":0,"d":"0 "}}]
[]
["御支払額総計",{"$f":"SUM('請求書書式(請求書表紙）'!I44-控除金明細書!B28)","v":{"v":0,"d":"0 "}}]

{"sheet":"出来高調書","index":2,"n_rows":156,"n_cols":19,"rows_kept":156,"merged":[[0,14,0,16],[1,0,1,3],[1,5,1,6],[1,7,1,9],[1,11,1,12],[1,13,1,16],[2,0,3,2],[2,3,3,3],[2,5,3,6],[2,7,2,9],[2,11,2,12],[2,13,2,14],[2,15,2,16],[3,7,3,9],[3,11,3,12],[3,13,3,16],[5,0,6,0],[5,1,6,1],[5,2,6,2],[5,3,6,3],[5,4,5,7],[5,8,5,10],[5,11,5,13],[5,14,5,16],[33,10,33,13],[33,14,33,15],[34,10,35,13],[34,14,34,15],[35,14,35,15]]}
[{"$nulls":14},{"$f":"'請求書書式(請求書表紙）'!$A$2","v":"2023-08-25"}]
["株式会社西和工務店　御中",{"$nulls":4},"注文金額",null,{"$f":"SUM(H19)","v":{"v":0,"d":"¥0"}},{"$nulls":3},"住　　　所",null,{"$f":"'請求書書式(請求書表紙）'!$H$6","v":{"v":0,"d":"0 "}}]
["工事名・\n作業所名",null,null,{"$f":"'請求書書式(請求書表紙）'!$C$5","v":{"v":0,"d":"0 "}},null,"工　　期",{"$nulls":5},"社名・代表者名名",null,{"$f":"'請求書書式(請求書表紙）'!$H$7","v":{"v":0,"d":"0 "}},null,{"$f":"'請求書書式(請求書表紙）'!$H$8","v":0}]
[{"$nulls":11},"電　　　話"]
[]
["工種","項目","区分","注文内容","注文又予算金額",{"$nulls":3},"前回迄の出来高累計",null,null,"今回迄の出来高累計",null,null,"今回出来高"]
[{"$nulls":4},"数量","単位","単価","金額","数量","単価","金額","数量","単価","金額","数量","単価","金額"]
[{"$nulls":7},{"$f":"ROUNDDOWN(E8*G8,0)","v":{"v":0,"d":"0 "}},null,{"$f":"SUM(G8)","v":{"v":0,"d":"0 "}},{"$f":"ROUNDDOWN(I8*J8,0)","v":{"v":0,"d":"0 "}},null,{"$f":"SUM(G8)","v":{"v":0,"d":"0 "}},{"$f":"ROUNDDOWN(L8*M8,0)","v":{"v":0,"d":"0 "}},{"$f":"SUM(L8-I8)","v":0},{"$f":"SUM(G8)","v":{"v":0,"d":"0 "}},{"$f":"SUM(N8-K8)","v":{"v":0,"d":"0 "}},{"$f":"SUM(E8-L8)","v":0},{"$f":"SUM(H8-N8)","v":{"v":0,"d":"0 "}}]
[{"$nulls":7},{"$f":"ROUNDDOWN(E9*G9,0)","v":{"v":0,"d":"0 "}},null,{"$f":"SUM(G9)","v":{"v":0,"d":"0 "}},{"$f":"ROUNDDOWN(I9*J9,0)","v":{"v":0,"d":"0 "}},null,{"$f":"SUM(G9)","v":{"v":0,"d":"0 "}},{"$f":"ROUNDDOWN(L9*M9,0)","v":{"v":0,"d":"0 "}},{"$f":"SUM(L9-I9)","v":0},{"$f":"SUM(G9)","v":{"v":0,"d":"0 "}},{"$f":"SUM(N9-K9)","v":{"v":0,"d":"0 "}},{"$f":"SUM(E9-L9)","v":0},{"$f":"SUM(H9-N9)","v":{"v":0,"d":"0 "}}]
[{"$nulls":7},{"v":0,"d":"0 "},null,{"v":0,"d":"0 "},{"v":0,"d":"0 "},null,{"v":0,"d":"0 "},{"v":0,"d":"0 "},0,{"v":0,"d":"0 "},{"v":0,"d":"0 "},0,{"v":0,"d":"0 "}]
[{"$nulls":7},{"v":0,"d":"0 "},null,{"v":0,"d":"0 "},{"v":0,"d":"0 "},null,{"v":0,"d":"0 "},{"v":0,"d":"0 "},0,{"v":0,"d":"0 "},{"v":0,"d":"0 "},0,{"v":0,"d":"0 "}]
[{"$nulls":7},{"v":0,"d":"0 "},null,{"v":0,"d":"0 "},{"v":0,"d":"0 "},null,{"v":0,"d":"0 "},{"v":0,"d":"0 "},0,{"v":0,"d":"0 "},{"v":0,"d":"0 "},0,{"v":0,"d":"0 "}]
[{"$nulls":7},{"v":0,"d":"0 "},null,{"v":0,"d":"0 "},{"v":0,"d":"0 "},null,{"v":0,"d":"0 "},{"v":0,"d":"0 "},0,{"v":0,"d":"0 "},{"v":0,"d":"0 "},0,{"v":0,"d":"0 "}]
[{"$nulls":7},{"v":0,"d":"0 "},null,{"v":0,"d":"0 "},{"v":0,"d":"0 "},null,{"v":0,"d":"0 "},{"v":0,"d":"0 "},0,{"v":0,"d":"0 "},{"v":0,"d":"0 "},0,{"v":0,"d":"0 "}]
[{"$nulls":7},{"v":0,"d":"0 "},null,{"v":0,"d":"0 "},{"v":0,"d":"0 "},null,{"v":0,"d":"0 "},{"v":0,"d":"0 "},0,{"v":0,"d":"0 "},{"v":0,"d":"0 "},0,{"v":0,"d":"0 "}]
[{"$nulls":7},{"v":0,"d":"0 "},null,{"v":0,"d":"0 "},{"v":0,"d":"0 "},null,{"v":0,"d":"0 "},{"v":0,"d":"0 "},0,{"v":0,"d":"0 "},{"v":0,"d":"0 "},0,{"v":0,"d":"0 "}]
[{"$nulls":3},"合計",{"$nulls":3},{"$f":"SUM(H8:H16)","v":{"v":0,"d":"0 "}},null,null,{"$f":"SUM(K8:K16)","v":{"v":0,"d":"0 "}},null,null,{"$f":"SUM(N8:N16)","v":{"v":0,"d":"0 "}},null,null,{"$f":"SUM(Q8:Q16)","v":{"v":0,"d":"0 "}},{"$f":"SUM(E17-L17)","v":0},{"$f":"SUM(H17-N17)","v":{"v":0,"d":"0 "}}]
[{"$nulls":3},"消費税",{"$nulls":3},{"$f":"ROUNDDOWN(H17*0.1,0)","v":{"v":0,"d":"0 "}},null,null,{"$f":"ROUNDDOWN(K17*0.1,0)","v":{"v":0,"d":"0 "}},null,null,{"$f":"ROUNDDOWN(N17*0.1,0)","v":{"v":0,"d":"0 "}},null,null,{"$f":"ROUNDDOWN(Q17*0.1,0)","v":{"v":0,"d":"0 "}},{"$f":"SUM(E18-L18)","v":0},{"$f":"SUM(H18-N18)","v":{"v":0,"d":"0 "}}]
[{"$nulls":3},"改め合計",{"$nulls":3},{"$f":"SUM(H17:H18)","v":{"v":0,"d":"0 "}},null,null,{"$f":"SUM(K17:K18)","v":{"v":0,"d":"0 "}},null,null,{"$f":"SUM(N17:N18)","v":{"v":0,"d":"0 "}},null,null,{"$f":"SUM(Q17:Q18)","v":{"v":0,"d":"0 "}},{"$f":"SUM(E19-L19)","v":0},{"$f":"SUM(H19-N19)","v":{"v":0,"d":"0 "}}]
[]
[{"$nulls":3},"契約外追加工事",{"$nulls":3},{"v":0,"d":"0 "},null,{"v":0,"d":"0 "},{"v":0,"d":"0 "},null,{"v":0,"d":"0 "},{"v":0,"d":"0 "},0,{"v":0,"d":"0 "},{"v":0,"d":"0 "},0,{"v":0,"d":"0 "}]
[{"$nulls":7},{"v":0,"d":"0 "},null,{"v":0,"d":"0 "},{"v":0,"d":"0 "},null,{"v":0,"d":"0 "},{"v":0,"d":"0 "},0,{"v":0,"d":"0 "},{"v":0,"d":"0 "},0,{"v":0,"d":"0 "}]
[{"$nulls":7},{"v":0,"d":"0 "},null,{"v":0,"d":"0 "},{"v":0,"d":"0 "},null,{"v":0,"d":"0 "},{"v":0,"d":"0 "},0,{"v":0,"d":"0 "},{"v":0,"d":"0 "},0,{"v":0,"d":"0 "}]
[{"$nulls":3},"合計",{"$nulls":3},{"$f":"SUM(H21:H23)","v":{"v":0,"d":"0 "}},null,null,{"$f":"SUM(K21:K23)","v":{"v":0,"d":"0 "}},null,null,{"$f":"SUM(N21:N23)","v":{"v":0,"d":"0 "}},null,null,{"$f":"SUM(Q21:Q23)","v":{"v":0,"d":"0 "}},{"$f":"SUM(E24-L24)","v":0},{"$f":"SUM(H24-N24)","v":{"v":0,"d":"0 "}}]
[{"$nulls":3},"消費税",{"$nulls":3},{"$f":"ROUNDDOWN(H24*0.1,0)","v":{"v":0,"d":"0 "}},null,null,{"$f":"ROUNDDOWN(K24*0.1,0)","v":{"v":0,"d":"0 "}},null,null,{"$f":"ROUNDDOWN(N24*0.1,0)","v":{"v":0,"d":"0 "}},null,null,{"$f":"ROUNDDOWN(Q24*0.1,0)","v":{"v":0,"d":"0 "}},0,{"v":0,"d":"0 "}]
[{"$nulls":3},"改め合計",{"$nulls":3},{"$f":"SUM(H24:H25)","v":{"v":0,"d":"0 "}},null,null,{"$f":"SUM(K24:K25)","v":{"v":0,"d":"0 "}},null,null,{"$f":"SUM(N24:N25)","v":{"v":0,"d":"0 "}},null,null,{"$f":"SUM(Q24:Q25)","v":{"v":0,"d":"0 "}},{"$f":"SUM(E26-L26)","v":0},{"$f":"SUM(H26-N26)","v":{"v":0,"d":"0 "}}]
[]
[{"$nulls":17},{"$f":"SUM(E28-L28)","v":0},{"$f":"SUM(H28-N28)","v":{"v":0,"d":"0 "}}]
[{"$nulls":7},{"$f":"ROUNDDOWN(E29*G29,0)","v":{"v":0,"d":"0 "}},null,{"$f":"SUM(G29)","v":{"v":0,"d":"0 "}},{"$f":"ROUNDDOWN(I29*J29,0)","v":{"v":0,"d":"0 "}},null,{"$f":"SUM(G29)","v":{"v":0,"d":"0 "}},{"$f":"ROUNDDOWN(L29*M29,0)","v":{"v":0,"d":"0 "}},{"$f":"SUM(L29-I29)","v":0},{"$f":"SUM(G29)","v":{"v":0,"d":"0 "}},{"$f":"SUM(N29-K29)","v":{"v":0,"d":"0 "}},0,{"v":0,"d":"0 "}]
[{"$nulls":7},{"$f":"ROUNDDOWN(E30*G30,0)","v":{"v":0,"d":"0 "}},null,{"$f":"SUM(G30)","v":{"v":0,"d":"0 "}},{"$f":"ROUNDDOWN(I30*J30,0)","v":{"v":0,"d":"0 "}},null,{"$f":"SUM(G30)","v":{"v":0,"d":"0 "}},{"$f":"ROUNDDOWN(L30*M30,0)","v":{"v":0,"d":"0 "}},{"$f":"SUM(L30-I30)","v":0},{"$f":"SUM(G30)","v":{"v":0,"d":"0 "}},{"$f":"SUM(N30-K30)","v":{"v":0,"d":"0 "}},{"$f":"SUM(E30-L30)","v":0},{"$f":"SUM(H30-N30)","v":{"v":0,"d":"0 "}}]
[{"$nulls":3},"計",{"$nulls":3},{"$f":"SUM(H28:H30)","v":{"v":0,"d":"0 "}},null,null,{"$f":"SUM(K28:K30)","v":{"v":0,"d":"0 "}},null,null,{"$f":"SUM(N28:N30)","v":{"v":0,"d":"0 "}},null,null,{"$f":"SUM(Q28:Q30)","v":{"v":0,"d":"0 "}},{"$f":"SUM(E31-L31)","v":0},{"$f":"SUM(H31-N31)","v":{"v":0,"d":"0 "}}]
[]
[{"$nulls":3},"改め総合計",{"$nulls":3},{"$f":"SUM(H19,H26,H31)","v":{"v":0,"d":"0 "}},null,null,{"$f":"SUM(K19,K26,K31)","v":{"v":0,"d":"0 "}},null,null,{"$f":"SUM(N19,N26,N31)","v":{"v":0,"d":"0 "}},null,null,{"$f":"SUM(Q19,Q26,Q31)","v":{"v":0,"d":"0 "}},0,{"v":0,"d":"0 "}]
[{"$nulls":14},"今回請求金額",null,{"$f":"SUM(Q33)","v":{"v":0,"d":"0 "}}]
[{"$nulls":14},"請求累計金額",null,{"$f":"SUM(N33)","v":{"v":0,"d":"0 "}}]
[{"$nulls":14},"差引請求残額",null,{"$f":"SUM(H19-N19)","v":{"v":0,"d":"0 "}}]
[{"$nulls":7},{"$f":"ROUNDDOWN(E37*G37,0)","v":{"v":0,"d":"0 "}},null,{"$f":"SUM(G37)","v":{"v":0,"d":"0 "}},{"$f":"ROUNDDOWN(I37*J37,0)","v":{"v":0,"d":"0 "}},null,{"$f":"SUM(G37)","v":{"v":0,"d":"0 "}},{"$f":"ROUNDDOWN(L37*M37,0)","v":{"v":0,"d":"0 "}},{"$f":"SUM(L37-I37)","v":0},{"$f":"SUM(G37)","v":{"v":0,"d":"0 "}},{"$f":"SUM(N37-K37)","v":{"v":0,"d":"0 "}},0,{"v":0,"d":"0 "}]
[{"$nulls":7},{"v":0,"d":"0 "},null,{"v":0,"d":"0 "},{"v":0,"d":"0 "},null,{"v":0,"d":"0 "},{"v":0,"d":"0 "},0,{"v":0,"d":"0 "},{"v":0,"d":"0 "},0,{"v":0,"d":"0 "}]
[{"$nulls":7},{"v":0,"d":"0 "},null,{"v":0,"d":"0 "},{"v":0,"d":"0 "},null,{"v":0,"d":"0 "},{"v":0,"d":"0 "},0,{"v":0,"d":"0 "},{"v":0,"d":"0 "},0,{"v":0,"d":"0 "}]
[{"$nulls":7},{"v":0,"d":"0 "},null,{"v":0,"d":"0 "},{"v":0,"d":"0 "},null,{"v":0,"d":"0 "},{"v":0,"d":"0 "},0,{"v":0,"d":"0 "},{"v":0,"d":"0 "},0,{"v":0,"d":"0 "}]
[{"$nulls":7},{"v":0,"d":"0 "},null,{"v":0,"d":"0 "},{"v":0,"d":"0 "},null,{"v":0,"d":"0 "},{"v":0,"d":"0 "},0,{"v":0,"d":"0 "},{"v":0,"d":"0 "},0,{"v":0,"d":"0 "}]
[{"$nulls":7},{"v":0,"d":"0 "},null,{"v":0,"d":"0 "},{"v":0,"d":"0 "},null,{"v":0,"d":"0 "},{"v":0,"d":"0 "},0,{"v":0,"d":"0 "},{"v":0,"d":"0 "},0,{"v":0,"d":"0 "}]
[{"$nulls":7},{"v":0,"d":"0 "},null,{"v":0,"d":"0 "},{"v":0,"d":"0 "},null,{"v":0,"d":"0 "},{"v":0,"d":"0 "},0,{"v":0,"d":"0 "},{"v":0,"d":"0 "},0,{"v":0,"d":"0 "}]
[{"$nulls":7},{"v":0,"d":"0 "},null,{"v":0,"d":"0 "},{"v":0,"d":"0 "},null,{"v":0,"d":"0 "},{"v":0,"d":"0 "},0,{"v":0,"d":"0 "},{"v":0,"d":"0 "},0,{"v":0,"d":"0 "}]
[{"$nulls":7},{"v":0,"d":"0 "},null,{"v":0,"d":"0 "},{"v":0,"d":"0 "},null,{"v":0,"d":"0 "},{"v":0,"d":"0 "},0,{"v":0,"d":"0 "},{"v":0,"d":"0 "},0,{"v":0,"d":"0 "}]
[{"$nulls":7},{"v":0,"d":"0 "},null,{"v":0,"d":"0 "},{"v":0,"d":"0 "},null,{"v":0,"d":"0 "},{"v":0,"d":"0 "},0,{"v":0,"d":"0 "},{"v":0,"d":"0 "},0,{"v":0,"d":"0 "}]
[{"$nulls":7},{"v":0,"d":"0 "},null,{"v":0,"d":"0 "},{"v":0,"d":"0 "},null,{"v":0,"d":"0 "},{"v":0,"d":"0 "},0,{"v":0,"d":"0 "},{"v":0,"d":"0 "},0,{"v":0,"d":"0 "}]
[{"$nulls":7},{"v":0,"d":"0 "},null,{"v":0,"d":"0 "},{"v":0,"d":"0 "},null,{"v":0,"d":"0 "},{"v":0,"d":"0 "},0,{"v":0,"d":"0 "},{"v":0,"d":"0 "},0,{"v":0,"d":"0 "}]
[{"$nulls":7},{"v":0,"d":"0 "},null,{"v":0,"d":"0 "},{"v":0,"d":"0 "},null,{"v":0,"d":"0 "},{"v":0,"d":"0 "},0,{"v":0,"d":"0 "},{"v":0,"d":"0 "},0,{"v":0,"d":"0 "}]
[{"$nulls":7},{"v":0,"d":"0 "},null,{"v":0,"d":"0 "},{"v":0,"d":"0 "},null,{"v":0,"d":"0 "},{"v":0,"d":"0 "},0,{"v":0,"d":"0 "},{"v":0,"d":"0 "},0,{"v":0,"d":"0 "}]
[{"$nulls":7},{"v":0,"d":"0 "},null,{"v":0,"d":"0 "},{"v":0,"d":"0 "},null,{"v":0,"d":"0 "},{"v":0,"d":"0 "},0,{"v":0,"d":"0 "},{"v":0,"d":"0 "},0,{"v":0,"d":"0 "}]
[{"$nulls":7},{"v":0,"d":"0 "},null,{"v":0,"d":"0 "},{"v":0,"d":"0 "},null,{"v":0,"d":"0 "},{"v":0,"d":"0 "},0,{"v":0,"d":"0 "},{"v":0,"d":"0 "},0,{"v":0,"d":"0 "}]
[{"$nulls":7},{"v":0,"d":"0 "},null,{"v":0,"d":"0 "},{"v":0,"d":"0 "},null,{"v":0,"d":"0 "},{"v":0,"d":"0 "},0,{"v":0,"d":"0 "},{"v":0,"d":"0 "},0,{"v":0,"d":"0 "}]
[{"$nulls":7},{"v":0,"d":"0 "},null,{"v":0,"d":"0 "},{"v":0,"d":"0 "},null,{"v":0,"d":"0 "},{"v":0,"d":"0 "},0,{"v":0,"d":"0 "},{"v":0,"d":"0 "},0,{"v":0,"d":"0 "}]
[{"$nulls":7},{"v":0,"d":"0 "},null,{"v":0,"d":"0 "},{"v":0,"d":"0 "},null,{"v":0,"d":"0 "},{"v":0,"d":"0 "},0,{"v":0,"d":"0 "},{"v":0,"d":"0 "},0,{"v":0,"d":"0 "}]
[{"$nulls":7},{"v":0,"d":"0 "},null,{"v":0,"d":"0 "},{"v":0,"d":"0 "},null,{"v":0,"d":"0 "},{"v":0,"d":"0 "},0,{"v":0,"d":"0 "},{"v":0,"d":"0 "},0,{"v":0,"d":"0 "}]
[{"$nulls":7},{"v":0,"d":"0 "},null,{"v":0,"d":"0 "},{"v":0,"d":"0 "},null,{"v":0,"d":"0 "},{"v":0,"d":"0 "},0,{"v":0,"d":"0 "},{"v":0,"d":"0 "},0,{"v":0,"d":"0 "}]
[{"$nulls":7},{"v":0,"d":"0 "},null,{"v":0,"d":"0 "},{"v":0,"d":"0 "},null,{"v":0,"d":"0 "},{"v":0,"d":"0 "},0,{"v":0,"d":"0 "},{"v":0,"d":"0 "},0,{"v":0,"d":"0 "}]
[{"$nulls":7},{"v":0,"d":"0 "},null,{"v":0,"d":"0 "},{"v":0,"d":"0 "},null,{"v":0,"d":"0 "},{"v":0,"d":"0 "},0,{"v":0,"d":"0 "},{"v":0,"d":"0 "},0,{"v":0,"d":"0 "}]
[{"$nulls":7},{"v":0,"d":"0 "},null,{"v":0,"d":"0 "},{"v":0,"d":"0 "},null,{"v":0,"d":"0 "},{"v":0,"d":"0 "},0,{"v":0,"d":"0 "},{"v":0,"d":"0 "},0,{"v":0,"d":"0 "}]
[{"$nulls":7},{"v":0,"d":"0 "},null,{"v":0,"d":"0 "},{"v":0,"d":"0 "},null,{"v":0,"d":"0 "},{"v":0,"d":"0 "},0,{"v":0,"d":"0 "},{"v":0,"d":"0 "},0,{"v":0,"d":"0 "}]
[{"$nulls":7},{"v":0,"d":"0 "},null,{"v":0,"d":"0 "},{"v":0,"d":"0 "},null,{"v":0,"d":"0 "},{"v":0,"d":"0 "},0,{"v":0,"d":"0 "},{"v":0,"d":"0 "},0,{"v":0,"d":"0 "}]
[{"$nulls":7},{"v":0,"d":"0 "},null,{"v":0,"d":"0 "},{"v":0,"d":"0 "},null,{"v":0,"d":"0 "},{"v":0,"d":"0 "},0,{"v":0,"d":"0 "},{"v":0,"d":"0 "},0,{"v":0,"d":"0 "}]
[{"$nulls":7},{"v":0,"d":"0 "},null,{"v":0,"d":"0 "},{"v":0,"d":"0 "},null,{"v":0,"d":"0 "},{"v":0,"d":"0 "},0,{"v":0,"d":"0 "},{"v":0,"d":"0 "},0,{"v":0,"d":"0 "}]
[{"$nulls":7},{"v":0,"d":"0 "},null,{"v":0,"d":"0 "},{"v":0,"d":"0 "},null,{"v":0,"d":"0 "},{"v":0,"d":"0 "},0,{"v":0,"d":"0 "},{"v":0,"d":"0 "},0,{"v":0,"d":"0 "}]
[{"$nulls":7},{"v":0,"d":"0 "},null,{"v":0,"d":"0 "},{"v":0,"d":"0 "},null,{"v":0,"d":"0 "},{"v":0,"d":"0 "},0,{"v":0,"d":"0 "},{"v":0,"d":"0 "},0,{"v":0,"d":"0 "}]
[{"$nulls":7},{"v":0,"d":"0 "},null,{"v":0,"d":"0 "},{"v":0,"d":"0 "},null,{"v":0,"d":"0 "},{"v":0,"d":"0 "},0,{"v":0,"d":"0 "},{"v":0,"d":"0 "},0,{"v":0,"d":"0 "}]
[{"$nulls":7},{"v":0,"d":"0 "},null,{"v":0,"d":"0 "},{"v":0,"d":"0 "},null,{"v":0,"d":"0 "},{"v":0,"d":"0 "},0,{"v":0,"d":"0 "},{"v":0,"d":"0 "},0,{"v":0,"d":"0 "}]
[{"$nulls":7},{"v":0,"d":"0 "},null,{"v":0,"d":"0 "},{"v":0,"d":"0 "},null,{"v":0,"d":"0 "},{"v":0,"d":"0 "},0,{"v":0,"d":"0 "},{"v":0,"d":"0 "},0,{"v":0,"d":"0 "}]
[{"$nulls":7},{"v":0,"d":"0 "},null,{"v":0,"d":"0 "},{"v":0,"d":"0 "},null,{"v":0,"d":"0 "},{"v":0,"d":"0 "},0,{"v":0,"d":"0 "},{"v":0,"d":"0 "},0,{"v":0,"d":"0 "}]
[{"$nulls":7},{"v":0,"d":"0 "},null,{"v":0,"d":"0 "},{"v":0,"d":"0 "},null,{"v":0,"d":"0 "},{"v":0,"d":"0 "},0,{"v":0,"d":"0 "},{"v":0,"d":"0 "},0,{"v":0,"d":"0 "}]
[{"$nulls":7},{"v":0,"d":"0 "},null,{"v":0,"d":"0 "},{"v":0,"d":"0 "},null,{"v":0,"d":"0 "},{"v":0,"d":"0 "},0,{"v":0,"d":"0 "},{"v":0,"d":"0 "},0,{"v":0,"d":"0 "}]
[{"$nulls":7},{"v":0,"d":"0 "},null,{"v":0,"d":"0 "},{"v":0,"d":"0 "},null,{"v":0,"d":"0 "},{"v":0,"d":"0 "},0,{"v":0,"d":"0 "},{"v":0,"d":"0 "},0,{"v":0,"d":"0 "}]
[{"$nulls":7},{"v":0,"d":"0 "},null,{"v":0,"d":"0 "},{"v":0,"d":"0 "},null,{"v":0,"d":"0 "},{"v":0,"d":"0 "},0,{"v":0,"d":"0 "},{"v":0,"d":"0 "},{"$f":"SUM(E74-L74)","v":0},{"$f":"SUM(H74-N74)","v":{"v":0,"d":"0 "}}]
[{"$nulls":7},{"v":0,"d":"0 "},null,{"v":0,"d":"0 "},{"v":0,"d":"0 "},null,{"v":0,"d":"0 "},{"v":0,"d":"0 "},0,{"v":0,"d":"0 "},{"v":0,"d":"0 "},0,{"v":0,"d":"0 "}]
[{"$nulls":7},{"v":0,"d":"0 "},null,{"v":0,"d":"0 "},{"v":0,"d":"0 "},null,{"v":0,"d":"0 "},{"v":0,"d":"0 "},0,{"v":0,"d":"0 "},{"v":0,"d":"0 "},0,{"v":0,"d":"0 "}]
[{"$nulls":7},{"v":0,"d":"0 "},null,{"v":0,"d":"0 "},{"v":0,"d":"0 "},null,{"v":0,"d":"0 "},{"v":0,"d":"0 "},0,{"v":0,"d":"0 "},{"v":0,"d":"0 "},0,{"v":0,"d":"0 "}]
[{"$nulls":7},{"v":0,"d":"0 "},null,{"v":0,"d":"0 "},{"v":0,"d":"0 "},null,{"v":0,"d":"0 "},{"v":0,"d":"0 "},0,{"v":0,"d":"0 "},{"v":0,"d":"0 "},0,{"v":0,"d":"0 "}]
[{"$nulls":7},{"v":0,"d":"0 "},null,{"v":0,"d":"0 "},{"v":0,"d":"0 "},null,{"v":0,"d":"0 "},{"v":0,"d":"0 "},0,{"v":0,"d":"0 "},{"v":0,"d":"0 "},0,{"v":0,"d":"0 "}]
[{"$nulls":7},{"v":0,"d":"0 "},null,{"v":0,"d":"0 "},{"v":0,"d":"0 "},null,{"v":0,"d":"0 "},{"v":0,"d":"0 "},0,{"v":0,"d":"0 "},{"v":0,"d":"0 "},0,{"v":0,"d":"0 "}]
[{"$nulls":7},{"v":0,"d":"0 "},null,{"v":0,"d":"0 "},{"v":0,"d":"0 "},null,{"v":0,"d":"0 "},{"v":0,"d":"0 "},0,{"v":0,"d":"0 "},{"v":0,"d":"0 "},0,{"v":0,"d":"0 "}]
[{"$nulls":7},{"v":0,"d":"0 "},null,{"v":0,"d":"0 "},{"v":0,"d":"0 "},null,{"v":0,"d":"0 "},{"v":0,"d":"0 "},0,{"v":0,"d":"0 "},{"v":0,"d":"0 "},0,{"v":0,"d":"0 "}]
[{"$nulls":7},{"v":0,"d":"0 "},null,{"v":0,"d":"0 "},{"v":0,"d":"0 "},null,{"v":0,"d":"0 "},{"v":0,"d":"0 "},0,{"v":0,"d":"0 "},{"v":0,"d":"0 "},0,{"v":0,"d":"0 "}]
[{"$nulls":7},{"v":0,"d":"0 "},null,{"v":0,"d":"0 "},{"v":0,"d":"0 "},null,{"v":0,"d":"0 "},{"v":0,"d":"0 "},0,{"v":0,"d":"0 "},{"v":0,"d":"0 "},0,{"v":0,"d":"0 "}]
[{"$nulls":7},{"v":0,"d":"0 "},null,{"v":0,"d":"0 "},{"v":0,"d":"0 "},null,{"v":0,"d":"0 "},{"v":0,"d":"0 "},0,{"v":0,"d":"0 "},{"v":0,"d":"0 "},0,{"v":0,"d":"0 "}]
[{"$nulls":7},{"v":0,"d":"0 "},null,{"v":0,"d":"0 "},{"v":0,"d":"0 "},null,{"v":0,"d":"0 "},{"v":0,"d":"0 "},0,{"v":0,"d":"0 "},{"v":0,"d":"0 "},0,{"v":0,"d":"0 "}]
[{"$nulls":7},{"v":0,"d":"0 "},null,{"v":0,"d":"0 "},{"v":0,"d":"0 "},null,{"v":0,"d":"0 "},{"v":0,"d":"0 "},0,{"v":0,"d":"0 "},{"v":0,"d":"0 "},0,{"v":0,"d":"0 "}]
[{"$nulls":7},{"v":0,"d":"0 "},null,{"v":0,"d":"0 "},{"v":0,"d":"0 "},null,{"v":0,"d":"0 "},{"v":0,"d":"0 "},0,{"v":0,"d":"0 "},{"v":0,"d":"0 "},0,{"v":0,"d":"0 "}]
[{"$nulls":7},{"v":0,"d":"0 "},null,{"v":0,"d":"0 "},{"v":0,"d":"0 "},null,{"v":0,"d":"0 "},{"v":0,"d":"0 "},0,{"v":0,"d":"0 "},{"v":0,"d":"0 "},0,{"v":0,"d":"0 "}]
[{"$nulls":7},{"v":0,"d":"0 "},null,{"v":0,"d":"0 "},{"v":0,"d":"0 "},null,{"v":0,"d":"0 "},{"v":0,"d":"0 "},0,{"v":0,"d":"0 "},{"v":0,"d":"0 "},0,{"v":0,"d":"0 "}]
[{"$nulls":7},{"v":0,"d":"0 "},null,{"v":0,"d":"0 "},{"v":0,"d":"0 "},null,{"v":0,"d":"0 "},{"v":0,"d":"0 "},0,{"v":0,"d":"0 "},{"v":0,"d":"0 "},0,{"v":0,"d":"0 "}]
[{"$nulls":7},{"v":0,"d":"0 "},null,{"v":0,"d":"0 "},{"v":0,"d":"0 "},null,{"v":0,"d":"0 "},{"v":0,"d":"0 "},0,{"v":0,"d":"0 "},{"v":0,"d":"0 "},0,{"v":0,"d":"0 "}]
[{"$nulls":7},{"v":0,"d":"0 "},null,{"v":0,"d":"0 "},{"v":0,"d":"0 "},null,{"v":0,"d":"0 "},{"v":0,"d":"0 "},0,{"v":0,"d":"0 "},{"v":0,"d":"0 "},0,{"v":0,"d":"0 "}]
[{"$nulls":7},{"v":0,"d":"0 "},null,{"v":0,"d":"0 "},{"v":0,"d":"0 "},null,{"v":0,"d":"0 "},{"v":0,"d":"0 "},0,{"v":0,"d":"0 "},{"v":0,"d":"0 "},0,{"v":0,"d":"0 "}]
[{"$nulls":7},{"v":0,"d":"0 "},null,{"v":0,"d":"0 "},{"v":0,"d":"0 "},null,{"v":0,"d":"0 "},{"v":0,"d":"0 "},0,{"v":0,"d":"0 "},{"v":0,"d":"0 "},0,{"v":0,"d":"0 "}]
[{"$nulls":7},{"v":0,"d":"0 "},null,{"v":0,"d":"0 "},{"v":0,"d":"0 "},null,{"v":0,"d":"0 "},{"v":0,"d":"0 "},0,{"v":0,"d":"0 "},{"v":0,"d":"0 "},0,{"v":0,"d":"0 "}]
[{"$nulls":7},{"v":0,"d":"0 "},null,{"v":0,"d":"0 "},{"v":0,"d":"0 "},null,{"v":0,"d":"0 "},{"v":0,"d":"0 "},0,{"v":0,"d":"0 "},{"v":0,"d":"0 "},0,{"v":0,"d":"0 "}]
[{"$nulls":7},{"v":0,"d":"0 "},null,{"v":0,"d":"0 "},{"v":0,"d":"0 "},null,{"v":0,"d":"0 "},{"v":0,"d":"0 "},0,{"v":0,"d":"0 "},{"v":0,"d":"0 "},0,{"v":0,"d":"0 "}]
[{"$nulls":7},{"v":0,"d":"0 "},null,{"v":0,"d":"0 "},{"v":0,"d":"0 "},null,{"v":0,"d":"0 "},{"v":0,"d":"0 "},0,{"v":0,"d":"0 "},{"v":0,"d":"0 "},0,{"v":0,"d":"0 "}]
[{"$nulls":7},{"v":0,"d":"0 "},null,{"v":0,"d":"0 "},{"v":0,"d":"0 "},null,{"v":0,"d":"0 "},{"v":0,"d":"0 "},0,{"v":0,"d":"0 "},{"v":0,"d":"0 "},0,{"v":0,"d":"0 "}]
[{"$nulls":7},{"$f":"ROUNDDOWN(E101*G101,0)","v":{"v":0,"d":"0 "}},null,{"$f":"SUM(G101)","v":{"v":0,"d":"0 "}},{"$f":"ROUNDDOWN(I101*J101,0)","v":{"v":0,"d":"0 "}},null,{"$f":"SUM(G101)","v":{"v":0,"d":"0 "}},{"$f":"ROUNDDOWN(L101*M101,0)","v":{"v":0,"d":"0 "}},{"$f":"SUM(L101-I101)","v":0},{"$f":"SUM(G101)","v":{"v":0,"d":"0 "}},{"$f":"SUM(N101-K101)","v":{"v":0,"d":"0 "}},0,{"v":0,"d":"0 "}]
[{"$nulls":7},{"v":0,"d":"0 "},null,{"v":0,"d":"0 "},{"v":0,"d":"0 "},null,{"v":0,"d":"0 "},{"v":0,"d":"0 "},0,{"v":0,"d":"0 "},{"v":0,"d":"0 "},0,{"v":0,"d":"0 "}]
[{"$nulls":7},{"v":0,"d":"0 "},null,{"v":0,"d":"0 "},{"v":0,"d":"0 "},null,{"v":0,"d":"0 "},{"v":0,"d":"0 "},0,{"v":0,"d":"0 "},{"v":0,"d":"0 "},0,{"v":0,"d":"0 "}]
[{"$nulls":7},{"v":0,"d":"0 "},null,{"v":0,"d":"0 "},{"v":0,"d":"0 "},null,{"v":0,"d":"0 "},{"v":0,"d":"0 "},0,{"v":0,"d":"0 "},{"v":0,"d":"0 "},0,{"v":0,"d":"0 "}]
[{"$nulls":7},{"v":0,"d":"0 "},null,{"v":0,"d":"0 "},{"v":0,"d":"0 "},null,{"v":0,"d":"0 "},{"v":0,"d":"0 "},0,{"v":0,"d":"0 "},{"v":0,"d":"0 "},0,{"v":0,"d":"0 "}]
[{"$nulls":7},{"v":0,"d":"0 "},null,{"v":0,"d":"0 "},{"v":0,"d":"0 "},null,{"v":0,"d":"0 "},{"v":0,"d":"0 "},0,{"v":0,"d":"0 "},{"v":0,"d":"0 "},0,{"v":0,"d":"0 "}]
[{"$nulls":7},{"v":0,"d":"0 "},null,{"v":0,"d":"0 "},{"v":0,"d":"0 "},null,{"v":0,"d":"0 "},{"v":0,"d":"0 "},0,{"v":0,"d":"0 "},{"v":0,"d":"0 "},0,{"v":0,"d":"0 "}]
[{"$nulls":7},{"v":0,"d":"0 "},null,{"v":0,"d":"0 "},{"v":0,"d":"0 "},null,{"v":0,"d":"0 "},{"v":0,"d":"0 "},0,{"v":0,"d":"0 "},{"v":0,"d":"0 "},0,{"v":0,"d":"0 "}]
[{"$nulls":7},{"v":0,"d":"0 "},null,{"v":0,"d":"0 "},{"v":0,"d":"0 "},null,{"v":0,"d":"0 "},{"v":0,"d":"0 "},0,{"v":0,"d":"0 "},{"v":0,"d":"0 "},0,{"v":0,"d":"0 "}]
[{"$nulls":7},{"v":0,"d":"0 "},null,{"v":0,"d":"0 "},{"v":0,"d":"0 "},null,{"v":0,"d":"0 "},{"v":0,"d":"0 "},0,{"v":0,"d":"0 "},{"v":0,"d":"0 "},0,{"v":0,"d":"0 "}]
[{"$nulls":7},{"v":0,"d":"0 "},null,{"v":0,"d":"0 "},{"v":0,"d":"0 "},null,{"v":0,"d":"0 "},{"v":0,"d":"0 "},0,{"v":0,"d":"0 "},{"v":0,"d":"0 "},0,{"v":0,"d":"0 "}]
[{"$nulls":7},{"v":0,"d":"0 "},null,{"v":0,"d":"0 "},{"v":0,"d":"0 "},null,{"v":0,"d":"0 "},{"v":0,"d":"0 "},0,{"v":0,"d":"0 "},{"v":0,"d":"0 "},0,{"v":0,"d":"0 "}]
[{"$nulls":7},{"v":0,"d":"0 "},null,{"v":0,"d":"0 "},{"v":0,"d":"0 "},null,{"v":0,"d":"0 "},{"v":0,"d":"0 "},0,{"v":0,"d":"0 "},{"v":0,"d":"0 "},0,{"v":0,"d":"0 "}]
[{"$nulls":7},{"v":0,"d":"0 "},null,{"v":0,"d":"0 "},{"v":0,"d":"0 "},null,{"v":0,"d":"0 "},{"v":0,"d":"0 "},0,{"v":0,"d":"0 "},{"v":0,"d":"0 "},0,{"v":0,"d":"0 "}]
[{"$nulls":7},{"v":0,"d":"0 "},null,{"v":0,"d":"0 "},{"v":0,"d":"0 "},null,{"v":0,"d":"0 "},{"v":0,"d":"0 "},0,{"v":0,"d":"0 "},{"v":0,"d":"0 "},0,{"v":0,"d":"0 "}]
[{"$nulls":7},{"v":0,"d":"0 "},null,{"v":0,"d":"0 "},{"v":0,"d":"0 "},null,{"v":0,"d":"0 "},{"v":0,"d":"0 "},0,{"v":0,"d":"0 "},{"v":0,"d":"0 "},0,{"v":0,"d":"0 "}]
[{"$nulls":7},{"v":0,"d":"0 "},null,{"v":0,"d":"0 "},{"v":0,"d":"0 "},null,{"v":0,"d":"0 "},{"v":0,"d":"0 "},0,{"v":0,"d":"0 "},{"v":0,"d":"0 "},0,{"v":0,"d":"0 "}]
[{"$nulls":7},{"v":0,"d":"0 "},null,{"v":0,"d":"0 "},{"v":0,"d":"0 "},null,{"v":0,"d":"0 "},{"v":0,"d":"0 "},0,{"v":0,"d":"0 "},{"v":0,"d":"0 "},0,{"v":0,"d":"0 "}]
[{"$nulls":7},{"v":0,"d":"0 "},null,{"v":0,"d":"0 "},{"v":0,"d":"0 "},null,{"v":0,"d":"0 "},{"v":0,"d":"0 "},0,{"v":0,"d":"0 "},{"v":0,"d":"0 "},0,{"v":0,"d":"0 "}]
[{"$nulls":7},{"v":0,"d":"0 "},null,{"v":0,"d":"0 "},{"v":0,"d":"0 "},null,{"v":0,"d":"0 "},{"v":0,"d":"0 "},0,{"v":0,"d":"0 "},{"v":0,"d":"0 "},0,{"v":0,"d":"0 "}]
[{"$nulls":7},{"v":0,"d":"0 "},null,{"v":0,"d":"0 "},{"v":0,"d":"0 "},null,{"v":0,"d":"0 "},{"v":0,"d":"0 "},0,{"v":0,"d":"0 "},{"v":0,"d":"0 "},0,{"v":0,"d":"0 "}]
[{"$nulls":7},{"v":0,"d":"0 "},null,{"v":0,"d":"0 "},{"v":0,"d":"0 "},null,{"v":0,"d":"0 "},{"v":0,"d":"0 "},0,{"v":0,"d":"0 "},{"v":0,"d":"0 "},0,{"v":0,"d":"0 "}]
[{"$nulls":7},{"v":0,"d":"0 "},null,{"v":0,"d":"0 "},{"v":0,"d":"0 "},null,{"v":0,"d":"0 "},{"v":0,"d":"0 "},0,{"v":0,"d":"0 "},{"v":0,"d":"0 "},0,{"v":0,"d":"0 "}]
[{"$nulls":7},{"v":0,"d":"0 "},null,{"v":0,"d":"0 "},{"v":0,"d":"0 "},null,{"v":0,"d":"0 "},{"v":0,"d":"0 "},0,{"v":0,"d":"0 "},{"v":0,"d":"0 "},0,{"v":0,"d":"0 "}]
[{"$nulls":7},{"v":0,"d":"0 "},null,{"v":0,"d":"0 "},{"v":0,"d":"0 "},null,{"v":0,"d":"0 "},{"v":0,"d":"0 "},0,{"v":0,"d":"0 "},{"v":0,"d":"0 "},0,{"v":0,"d":"0 "}]
[{"$nulls":7},{"v":0,"d":"0 "},null,{"v":0,"d":"0 "},{"v":0,"d":"0 "},null,{"v":0,"d":"0 "},{"v":0,"d":"0 "},0,{"v":0,"d":"0 "},{"v":0,"d":"0 "},0,{"v":0,"d":"0 "}]
[{"$nulls":7},{"v":0,"d":"0 "},null,{"v":0,"d":"0 "},{"v":0,"d":"0 "},null,{"v":0,"d":"0 "},{"v":0,"d":"0 "},0,{"v":0,"d":"0 "},{"v":0,"d":"0 "},0,{"v":0,"d":"0 "}]
[{"$nulls":7},{"v":0,"d":"0 "},null,{"v":0,"d":"0 "},{"v":0,"d":"0 "},null,{"v":0,"d":"0 "},{"v":0,"d":"0 "},0,{"v":0,"d":"0 "},{"v":0,"d":"0 "},0,{"v":0,"d":"0 "}]
[{"$nulls":7},{"v":0,"d":"0 "},null,{"v":0,"d":"0 "},{"v":0,"d":"0 "},null,{"v":0,"d":"0 "},{"v":0,"d":"0 "},0,{"v":0,"d":"0 "},{"v":0,"d":"0 "},0,{"v":0,"d":"0 "}]
[{"$nulls":7},{"v":0,"d":"0 "},null,{"v":0,"d":"0 "},{"v":0,"d":"0 "},null,{"v":0,"d":"0 "},{"v":0,"d":"0 "},0,{"v":0,"d":"0 "},{"v":0,"d":"0 "},0,{"v":0,"d":"0 "}]
[{"$nulls":7},{"v":0,"d":"0 "},null,{"v":0,"d":"0 "},{"v":0,"d":"0 "},null,{"v":0,"d":"0 "},{"v":0,"d":"0 "},0,{"v":0,"d":"0 "},{"v":0,"d":"0 "},0,{"v":0,"d":"0 "}]
[{"$nulls":7},{"v":0,"d":"0 "},null,{"v":0,"d":"0 "},{"v":0,"d":"0 "},null,{"v":0,"d":"0 "},{"v":0,"d":"0 "},0,{"v":0,"d":"0 "},{"v":0,"d":"0 "},0,{"v":0,"d":"0 "}]
[{"$nulls":7},{"v":0,"d":"0 "},null,{"v":0,"d":"0 "},{"v":0,"d":"0 "},null,{"v":0,"d":"0 "},{"v":0,"d":"0 "},0,{"v":0,"d":"0 "},{"v":0,"d":"0 "},0,{"v":0,"d":"0 "}]
[{"$nulls":7},{"v":0,"d":"0 "},null,{"v":0,"d":"0 "},{"v":0,"d":"0 "},null,{"v":0,"d":"0 "},{"v":0,"d":"0 "},0,{"v":0,"d":"0 "},{"v":0,"d":"0 "},0,{"v":0,"d":"0 "}]
[{"$nulls":7},{"v":0,"d":"0 "},null,{"v":0,"d":"0 "},{"v":0,"d":"0 "},null,{"v":0,"d":"0 "},{"v":0,"d":"0 "},0,{"v":0,"d":"0 "},{"v":0,"d":"0 "},0,{"v":0,"d":"0 "}]
[{"$nulls":7},{"v":0,"d":"0 "},null,{"v":0,"d":"0 "},{"v":0,"d":"0 "},null,{"v":0,"d":"0 "},{"v":0,"d":"0 "},0,{"v":0,"d":"0 "},{"v":0,"d":"0 "},0,{"v":0,"d":"0 "}]
[{"$nulls":7},{"v":0,"d":"0 "},null,{"v":0,"d":"0 "},{"v":0,"d":"0 "},null,{"v":0,"d":"0 "},{"v":0,"d":"0 "},0,{"v":0,"d":"0 "},{"v":0,"d":"0 "},0,{"v":0,"d":"0 "}]
[{"$nulls":7},{"v":0,"d":"0 "},null,{"v":0,"d":"0 "},{"v":0,"d":"0 "},null,{"v":0,"d":"0 "},{"v":0,"d":"0 "},0,{"v":0,"d":"0 "},{"v":0,"d":"0 "},{"$f":"SUM(E138-L138)","v":0},{"$f":"SUM(H138-N138)","v":{"v":0,"d":"0 "}}]
[{"$nulls":7},{"v":0,"d":"0 "},null,{"v":0,"d":"0 "},{"v":0,"d":"0 "},null,{"v":0,"d":"0 "},{"v":0,"d":"0 "},0,{"v":0,"d":"0 "},{"v":0,"d":"0 "},0,{"v":0,"d":"0 "}]
[{"$nulls":7},{"v":0,"d":"0 "},null,{"v":0,"d":"0 "},{"v":0,"d":"0 "},null,{"v":0,"d":"0 "},{"v":0,"d":"0 "},0,{"v":0,"d":"0 "},{"v":0,"d":"0 "},0,{"v":0,"d":"0 "}]
[{"$nulls":7},{"v":0,"d":"0 "},null,{"v":0,"d":"0 "},{"v":0,"d":"0 "},null,{"v":0,"d":"0 "},{"v":0,"d":"0 "},0,{"v":0,"d":"0 "},{"v":0,"d":"0 "},0,{"v":0,"d":"0 "}]
[{"$nulls":7},{"v":0,"d":"0 "},null,{"v":0,"d":"0 "},{"v":0,"d":"0 "},null,{"v":0,"d":"0 "},{"v":0,"d":"0 "},0,{"v":0,"d":"0 "},{"v":0,"d":"0 "},0,{"v":0,"d":"0 "}]
[{"$nulls":7},{"v":0,"d":"0 "},null,{"v":0,"d":"0 "},{"v":0,"d":"0 "},null,{"v":0,"d":"0 "},{"v":0,"d":"0 "},0,{"v":0,"d":"0 "},{"v":0,"d":"0 "},0,{"v":0,"d":"0 "}]
[{"$nulls":7},{"v":0,"d":"0 "},null,{"v":0,"d":"0 "},{"v":0,"d":"0 "},null,{"v":0,"d":"0 "},{"v":0,"d":"0 "},0,{"v":0,"d":"0 "},{"v":0,"d":"0 "},0,{"v":0,"d":"0 "}]
[{"$nulls":7},{"v":0,"d":"0 "},null,{"v":0,"d":"0 "},{"v":0,"d":"0 "},null,{"v":0,"d":"0 "},{"v":0,"d":"0 "},0,{"v":0,"d":"0 "},{"v":0,"d":"0 "},0,{"v":0,"d":"0 "}]
[{"$nulls":7},{"v":0,"d":"0 "},null,{"v":0,"d":"0 "},{"v":0,"d":"0 "},null,{"v":0,"d":"0 "},{"v":0,"d":"0 "},0,{"v":0,"d":"0 "},{"v":0,"d":"0 "},0,{"v":0,"d":"0 "}]
[{"$nulls":7},{"v":0,"d":"0 "},null,{"v":0,"d":"0 "},{"v":0,"d":"0 "},null,{"v":0,"d":"0 "},{"v":0,"d":"0 "},0,{"v":0,"d":"0 "},{"v":0,"d":"0 "},0,{"v":0,"d":"0 "}]
[{"$nulls":7},{"v":0,"d":"0 "},null,{"v":0,"d":"0 "},{"v":0,"d":"0 "},null,{"v":0,"d":"0 "},{"v":0,"d":"0 "},0,{"v":0,"d":"0 "},{"v":0,"d":"0 "},0,{"v":0,"d":"0 "}]
[{"$nulls":7},{"v":0,"d":"0 "},null,{"v":0,"d":"0 "},{"v":0,"d":"0 "},null,{"v":0,"d":"0 "},{"v":0,"d":"0 "},0,{"v":0,"d":"0 "},{"v":0,"d":"0 "},0,{"v":0,"d":"0 "}]
[{"$nulls":7},{"v":0,"d":"0 "},null,{"v":0,"d":"0 "},{"v":0,"d":"0 "},null,{"v":0,"d":"0 "},{"v":0,"d":"0 "},0,{"v":0,"d":"0 "},{"v":0,"d":"0 "},0,{"v":0,"d":"0 "}]
[{"$nulls":7},{"v":0,"d":"0 "},null,{"v":0,"d":"0 "},{"v":0,"d":"0 "},null,{"v":0,"d":"0 "},{"v":0,"d":"0 "},0,{"v":0,"d":"0 "},{"v":0,"d":"0 "},0,{"v":0,"d":"0 "}]
[{"$nulls":7},{"v":0,"d":"0 "},null,{"v":0,"d":"0 "},{"v":0,"d":"0 "},null,{"v":0,"d":"0 "},{"v":0,"d":"0 "},0,{"v":0,"d":"0 "},{"v":0,"d":"0 "},0,{"v":0,"d":"0 "}]
[{"$nulls":7},{"v":0,"d":"0 "},null,{"v":0,"d":"0 "},{"v":0,"d":"0 "},null,{"v":0,"d":"0 "},{"v":0,"d":"0 "},0,{"v":0,"d":"0 "},{"v":0,"d":"0 "},0,{"v":0,"d":"0 "}]
[{"$nulls":7},{"v":0,"d":"0 "},null,{"v":0,"d":"0 "},{"v":0,"d":"0 "},null,{"v":0,"d":"0 "},{"v":0,"d":"0 "},0,{"v":0,"d":"0 "},{"v":0,"d":"0 "},0,{"v":0,"d":"0 "}]
[{"$nulls":7},{"v":0,"d":"0 "},null,{"v":0,"d":"0 "},{"v":0,"d":"0 "},null,{"v":0,"d":"0 "},{"v":0,"d":"0 "},0,{"v":0,"d":"0 "},{"v":0,"d":"0 "},0,{"v":0,"d":"0 "}]
[{"$nulls":7},{"v":0,"d":"0 "},null,{"v":0,"d":"0 "},{"v":0,"d":"0 "},null,{"v":0,"d":"0 "},{"v":0,"d":"0 "},0,{"v":0,"d":"0 "},{"v":0,"d":"0 "},0,{"v":0,"d":"0 "}]

{"sheet":"請求書書式(請求書表紙）印刷送付用","index":3,"n_rows":44,"n_cols":12,"rows_kept":44,"hidden":true,"merged":[[0,0,0,9],[1,0,1,9],[2,4,2,6],[4,0,4,1],[4,2,4,5],[5,7,5,9],[6,0,6,1],[6,2,6,4],[6,7,6,9],[7,0,7,1],[7,2,7,4],[7,7,7,8],[8,0,8,1],[8,2,8,4],[8,7,8,8],[9,0,9,1],[9,2,9,4],[10,0,10,1],[10,2,10,4],[10,7,10,9],[13,1,13,4],[14,1,14,4],[15,1,15,4],[16,1,16,4],[17,1,17,4],[18,1,18,4],[19,1,19,4],[20,1,20,4],[21,1,21,4],[22,1,22,4],[23,1,23,4],[24,1,24,4],[25,1,25,4],[26,1,26,4],[27,1,27,4],[28,1,28,4],[29,1,29,4],[33,0,34,1],[33,2,33,4],[34,2,34,4],[35,2,35,4],[36,2,36,4],[37,0,37,1],[37,2,37,4],[40,0,40,4],[41,0,45,4],[41,5,45,5]]}
["請　　求　　書"]
["西暦　　　年　　月　　日"]
[{"$nulls":4},"（　　　　年　　月分）"]
["株式会社西和工務店　御中"]
["工事名・作業所名",{"$nulls":5},"請求者住所氏名"]
["〔注文契約内訳（税込）〕",{"$nulls":5},"住　　所"]
["注文金額",{"$nulls":5},"社　　名"]
["上記既請求額",{"$nulls":5},"代表者名",null,null,"印"]
["契約工事 　今回請求額",{"$nulls":5},"TEL"]
["契約外工事 今回請求額",{"$nulls":5},"適格請求書発行事業者番号"]
["請求残額",{"$nulls":5},"T"]
["〔請求内訳〕"]
["月/日","品名（仕様・形状・寸法）",{"$nulls":3},"数　量","単位","単　価","金　　額","税区分"]
[{"$nulls":8},{"$f":"ROUNDDOWN(F14*H14,0)","v":{"v":0,"d":"   0"}},null,null,{"v":0.1,"d":"10%"}]
[{"$nulls":8},{"$f":"ROUNDDOWN(F15*H15,0)","v":{"v":0,"d":"   0"}},null,null,{"v":0.08,"d":"8%"}]
[{"$nulls":8},{"v":0,"d":"   0"},null,null,"非課税"]
[{"$nulls":8},{"v":0,"d":"   0"}]
[{"$nulls":8},{"v":0,"d":"   0"}]
[{"$nulls":8},{"v":0,"d":"   0"}]
[{"$nulls":8},{"v":0,"d":"   0"}]
[{"$nulls":8},{"v":0,"d":"   0"}]
[{"$nulls":8},{"v":0,"d":"   0"}]
[{"$nulls":8},{"v":0,"d":"   0"}]
[{"$nulls":8},{"v":0,"d":"   0"}]
[{"$nulls":8},{"v":0,"d":"   0"}]
[{"$nulls":8},{"v":0,"d":"   0"}]
[{"$nulls":8},{"v":0,"d":"   0"}]
[{"$nulls":8},{"v":0,"d":"   0"}]
[{"$nulls":8},{"v":0,"d":"   0"}]
[{"$nulls":8},{"v":0,"d":"   0"}]
[null,"※8％は軽減税率を含む"]
[{"$nulls":7},"本体金額",{"$f":"SUM(I14:I31)","v":{"v":0,"d":"   0"}}]
["〔振込先〕",{"$nulls":6},"消費税",{"$f":"SUM(I43)","v":{"v":0,"d":"   0"}}]
["振込銀行",null,"銀行 ",{"$nulls":4},"合計",{"$f":"SUM(I44)","v":{"v":0,"d":"   0"}}]
[null,null,"支店 "]
["口座種別",null,"普通・当座",{"$nulls":4},"〔税率内訳〕"]
["口座番号",{"$nulls":6},"8％対象",{"$f":"SUMIF($J$14:$J$30,8%,$I$14:$I$30)","v":{"v":0,"d":"0 "}}]
["口座名義",{"$nulls":6},"消費税",{"$f":"ROUNDDOWN(I37*0.08,0)","v":{"v":0,"d":"0 "}}]
[{"$nulls":7},"10％対象",{"$f":"SUMIF($J$14:$J$30,10%,$I$14:$I$30)","v":{"v":0,"d":"0 "}}]
["【西和工務店使用欄】",{"$nulls":6},"消費税",{"$f":"ROUNDDOWN(I39*0.1,0)","v":{"v":0,"d":"0 "}}]
["工事部",{"$nulls":4},"現場代理人",null,"非課税",{"$f":"SUMIF($J$14:$J$30,\"非課税\",$I$14:$I$30)","v":{"v":0,"d":"   0"}}]
[{"$nulls":7},"本体計",{"$f":"I37+I39+I41","v":{"v":0,"d":"0 "}}]
[{"$nulls":7},"消費税計",{"$f":"I38+I40","v":{"v":0,"d":"0 "}}]
[{"$nulls":7},"総合計",{"$f":"SUM(I42:I43)","v":{"v":0,"d":"0 "}}]

{"sheet":"図形","index":4,"n_rows":31,"n_cols":13,"rows_kept":31,"hidden":true,"merged":[[0,0,3,6],[0,11,0,12],[5,0,5,4],[6,0,6,1],[6,2,6,6],[6,11,6,12],[14,11,15,11],[16,0,17,0],[16,1,18,6],[20,0,20,1],[20,3,20,5],[20,6,20,7],[21,0,21,1],[21,3,21,5],[21,6,21,7],[22,0,22,1],[22,3,22,5],[22,6,22,7],[23,0,23,1],[23,3,23,5],[23,6,23,7],[24,0,24,1],[24,3,24,5],[24,6,24,7],[26,0,26,2],[26,3,26,6],[26,7,26,9],[27,0,27,2],[29,0,29,2],[29,3,29,6],[29,7,29,9],[29,10,29,12],[30,0,30,2],[30,10,30,12]]}
["請　　求　　書",{"$nulls":10},"西暦　　　年　　月　　日"]
[]
[{"$nulls":7},"請求者住所氏名",null,null,"取引先CD（スタンプ押印）"]
[]
[]
["三井住友建設株式会社　御中",{"$nulls":8},"印","適格請求書発行事業者番号"]
["工事名・部署名",null,"(仮称）○×三丁目計画新築工事",{"$nulls":7},"T"]
["〔請求内訳〕",{"$nulls":10},"〔注文契約内訳（税込）〕"]
["月/日","品名（仕様・形状・寸法）",{"$nulls":3},"数　量","単位","単　価","金　　額","税区分",null,"注文番号"]
[{"$nulls":8},{"$f":"ROUND(F10*H10,0)","v":{"v":0,"d":"   0"}},{"v":0.1,"d":"10%"},null,"注文金額"]
[{"$nulls":8},{"$f":"ROUND(F11*H11,0)","v":{"v":0,"d":"   0"}},{"v":0.08,"d":"8%"},null,"既請求額"]
[{"$nulls":8},{"v":0,"d":"   0"},"非課税",null,"今回請求額",{"$f":"I19","v":{"v":0,"d":"   0"}}]
[{"$nulls":8},{"v":0,"d":"   0"},null,null,"請求残額",{"$f":"M10-M11-M12","v":{"v":0,"d":"   0"}}]
[{"$nulls":8},{"v":0,"d":"   0"},null,null,"〔振込先〕"]
[{"$nulls":8},{"v":0,"d":"   0"},null,null,"振込銀行","銀行 "]
[null,"※8％は軽減税率も含む",{"$nulls":6},{"v":0,"d":"   0"},{"$nulls":3},"支店 "]
["記入上\nの注意","① 提出日、工事名・部署名、太枠線内記入のうえ2部提出のこと。\n② 請求者取引先CDは赤スタンプ使用のこと。\n③ 注文契約工事は注文内容（注文番号等）記入のこと。\n④ 本紙に記入しきれない場合は、一式表示のうえ内訳書添付のこと。\n　 内訳書は任意書式も可、但しA4サイズとすること。",{"$nulls":5},"本体金額",{"$f":"SUM(I10:I16)","v":{"v":0,"d":"   0"}},null,null,"口座種別","普通・当座"]
[{"$nulls":7},"消費税",{"$f":"ROUNDDOWN(I10*0.1,0)+ROUNDDOWN(I11*0.08,0)","v":{"v":0,"d":"   0"}},null,null,"口座番号"]
[{"$nulls":7},"合計",{"$f":"SUM(I17:I18)","v":{"v":0,"d":"   0"}},null,null,"口座名義"]
["〔当社使用欄〕",{"$nulls":10},"〔税率内訳〕"]
["負担部門",null,"借方科目・\n工種・細目","摘要",null,null,"勘定相手先",null,"金額",null,null,"8％対象",{"$f":"I11","v":{"v":0,"d":"0 "}}]
[{"$nulls":11},"消費税",{"$f":"ROUNDDOWN(M21*0.08,0)","v":{"v":0,"d":"0 "}}]
[{"$nulls":11},"10％対象",{"$f":"I10","v":{"v":0,"d":"0 "}}]
[{"$nulls":11},"消費税",{"$f":"ROUNDDOWN(M23*0.1,0)","v":{"v":0,"d":"0 "}}]
[{"$nulls":11},"非課税",{"$f":"I12","v":{"v":0,"d":"   0"}}]
[{"$nulls":11},"本体計",{"$f":"M21+M23+M25","v":{"v":0,"d":"0 "}}]
[{"$nulls":11},"消費税計",{"$f":"M22+M24","v":{"v":0,"d":"0 "}}]
[]
[]
["経理",null,null,"関係先",{"$nulls":3},"仕出",null,null,"備考"]
["所属長　　　　　　　係",null,null,"所属長　　　　　　　　係",{"$nulls":3},"所属長　　　　　　　　係"]